BEGIN:VCALENDAR
VERSION:2.0
PRODID:-//ABM FOOT ACADEMY - ECPv6.15.14//NONSGML v1.0//EN
CALSCALE:GREGORIAN
METHOD:PUBLISH
X-WR-CALNAME:ABM FOOT ACADEMY
X-ORIGINAL-URL:https://www.abmfoot-academy.com
X-WR-CALDESC:Évènements pour ABM FOOT ACADEMY
REFRESH-INTERVAL;VALUE=DURATION:PT1H
X-Robots-Tag:noindex
X-PUBLISHED-TTL:PT1H
BEGIN:VTIMEZONE
TZID:UTC
BEGIN:STANDARD
TZOFFSETFROM:+0000
TZOFFSETTO:+0000
TZNAME:UTC
DTSTART:20230101T000000
END:STANDARD
END:VTIMEZONE
BEGIN:VEVENT
DTSTART;TZID=UTC:20241005T080000
DTEND;TZID=UTC:20250125T170000
DTSTAMP:20260420T095240
CREATED:20240925T105600Z
LAST-MODIFIED:20240925T110540Z
UID:1088-1728115200-1737824400@www.abmfoot-academy.com
SUMMARY:Coupe SIDATY CISSE' 2ème édition
DESCRIPTION:
URL:https://www.abmfoot-academy.com/event/coupe-sidaty-cisse-2eme-edition/
LOCATION:ABM FOOT\, Samayana\, Bamako\, Mali
ATTACH;FMTTYPE=image/png:https://www.abmfoot-academy.com/wp-content/uploads/2024/09/Coupe-SIDATY-CISSE-2eme-edition.png
END:VEVENT
BEGIN:VEVENT
DTSTART;TZID=UTC:20240920T080000
DTEND;TZID=UTC:20240920T120000
DTSTAMP:20260420T095240
CREATED:20240829T152548Z
LAST-MODIFIED:20240911T083306Z
UID:703-1726819200-1726833600@www.abmfoot-academy.com
SUMMARY:Rentrée de l'Académie ABM FOOT ACADEMY
DESCRIPTION:L’Académie ABM Foot est ravie d’annoncer la rentrée officielle de la nouvelle année académique le 2 septembre 2024. Cet événement marquera le début d’une nouvelle saison de formation pour nos jeunes talents\, qui auront l’opportunité de développer leurs compétences footballistiques tout en poursuivant leur éducation scolaire.
URL:https://www.abmfoot-academy.com/event/rentree-de-lacademie-abm-foot-academy/
LOCATION:ABM FOOT\, Samayana\, Bamako\, Mali
END:VEVENT
BEGIN:VEVENT
DTSTART;TZID=UTC:20240902T080000
DTEND;TZID=UTC:20240902T120000
DTSTAMP:20260420T095240
CREATED:20241013T154244Z
LAST-MODIFIED:20240829T163730Z
UID:126-1725264000-1725278400@www.abmfoot-academy.com
SUMMARY:Tournoi ABM FOOT 2024-2025
DESCRIPTION:
URL:https://www.abmfoot-academy.com/event/tournoi-abm-foot-2024-2025/
LOCATION:ABM FOOT\, Samayana\, Bamako\, Mali
END:VEVENT
BEGIN:VEVENT
DTSTART;TZID=UTC:20240820T160000
DTEND;TZID=UTC:20240820T170000
DTSTAMP:20260420T095240
CREATED:20241114T120428Z
LAST-MODIFIED:20240829T151251Z
UID:248-1724169600-1724173200@www.abmfoot-academy.com
SUMMARY:Match amical
DESCRIPTION:ABM FOOT vs DJOLIBA
URL:https://www.abmfoot-academy.com/event/match-amical/
LOCATION:ABM FOOT\, Samayana\, Bamako\, Mali
END:VEVENT
END:VCALENDAR